BEGIN:VCALENDAR
VERSION:2.0
PRODID:-//Tukios.com/
BEGIN:VEVENT
UID:77bcc965-bd97-4942-a17d-b6f7a473b2e8@www.williamsfh.com
DTSTAMP:20260423T043352Z
DTSTART:20260425T200000Z
DTEND:20260425T210000Z
SUMMARY:Celebration of Life
DESCRIPTION:
URL:https://www.williamsfh.com/obituaries/deborah-bryson
LOCATION: 2517 Trotwood Ave  Columbia TN 38401
GEO:35.5970731;-87.0781149
END:VEVENT
END:VCALENDAR