BEGIN:VCALENDAR
VERSION:2.0
PRODID:-//Tukios.com/
BEGIN:VEVENT
UID:eaf4f916-7d8b-42b5-ba7b-dcac0e5149ac@www.williamsfh.com
DTSTAMP:20260423T043338Z
DTSTART:20260425T180000Z
DTEND:20260425T200000Z
SUMMARY:Visitation
DESCRIPTION:
URL:https://www.williamsfh.com/obituaries/deborah-bryson
LOCATION: 2517 Trotwood Ave  Columbia TN 38401
GEO:35.5970731;-87.0781149
END:VEVENT
END:VCALENDAR