BEGIN:VCALENDAR
VERSION:2.0
PRODID:-//Tukios.com/
BEGIN:VEVENT
UID:017b43c9-d42c-40b5-861b-9ad34b0cf97b@www.williamsfh.com
DTSTAMP:20260422T192534Z
DTSTART:20260424T170000Z
DTEND:20260424T190000Z
SUMMARY:Visitation
DESCRIPTION:
URL:https://www.williamsfh.com/obituaries/nakoa-pitts
LOCATION: 2517 Trotwood Ave  Columbia TN 38401
GEO:35.5970731;-87.0781149
END:VEVENT
END:VCALENDAR