BEGIN:VCALENDAR
VERSION:2.0
PRODID:-//Tukios.com/
BEGIN:VEVENT
UID:dd360aa7-9556-4d87-a1f3-c548ddc26dfb@www.williamsfh.com
DTSTAMP:20260422T192535Z
DTSTART:20260424T190000Z
DTEND:20260424T200000Z
SUMMARY:Celebration of Life
DESCRIPTION:
URL:https://www.williamsfh.com/obituaries/nakoa-pitts
LOCATION: 2517 Trotwood Ave  Columbia TN 38401
GEO:35.5970731;-87.0781149
END:VEVENT
END:VCALENDAR